BEGIN:VCALENDAR
VERSION:2.0
PRODID:-//Ayuntamiento de Brea de Aragón - ECPv5.16.4//NONSGML v1.0//EN
CALSCALE:GREGORIAN
METHOD:PUBLISH
X-WR-CALNAME:Ayuntamiento de Brea de Aragón
X-ORIGINAL-URL:https://breadearagon.es
X-WR-CALDESC:Eventos para Ayuntamiento de Brea de Aragón
REFRESH-INTERVAL;VALUE=DURATION:PT1H
X-Robots-Tag:noindex
X-PUBLISHED-TTL:PT1H
BEGIN:VTIMEZONE
TZID:Europe/Helsinki
BEGIN:DAYLIGHT
TZOFFSETFROM:+0200
TZOFFSETTO:+0300
TZNAME:EEST
DTSTART:20200329T010000
END:DAYLIGHT
BEGIN:STANDARD
TZOFFSETFROM:+0300
TZOFFSETTO:+0200
TZNAME:EET
DTSTART:20201025T010000
END:STANDARD
END:VTIMEZONE
BEGIN:VEVENT
DTSTART;VALUE=DATE:20200611
DTEND;VALUE=DATE:20200615
DTSTAMP:20260422T132135
CREATED:20200526T105516Z
LAST-MODIFIED:20200616T124327Z
UID:250-1591833600-1592179199@breadearagon.es
SUMMARY:Entrega de mascarillas
DESCRIPTION:El reparto será:\nA toda la ciudadanía empadronada en el municipio (A partir de 14 años\, dando prioridad a los mayores de 70 años y a los enfermos crónicos) \nLUGAR\nPlaza de España\, debajo de portales. \nNORMAS \n\n2 mascarillas por persona.\nRecomendable un miembro de cada familia.\nAcudir sin niños preferiblemente.\nAcudir andando preferiblemente.\nSerá necesario el libro de familia o los DNI.
URL:https://breadearagon.es/evento/entrega-de-mascarillas/
LOCATION:Plaza de España\, Brea de Aragón
ATTACH;FMTTYPE=image/jpeg:https://breadearagon.es/wp-content/uploads/2020/05/facemask-5178786_640.jpg
END:VEVENT
END:VCALENDAR