BEGIN:VCALENDAR
VERSION:2.0
PRODID:-//Ayuntamiento de Brea de Aragón - ECPv5.16.4//NONSGML v1.0//EN
CALSCALE:GREGORIAN
METHOD:PUBLISH
X-ORIGINAL-URL:https://breadearagon.es
X-WR-CALDESC:Eventos para Ayuntamiento de Brea de Aragón
REFRESH-INTERVAL;VALUE=DURATION:PT1H
X-Robots-Tag:noindex
X-PUBLISHED-TTL:PT1H
BEGIN:VTIMEZONE
TZID:Europe/Helsinki
BEGIN:DAYLIGHT
TZOFFSETFROM:+0200
TZOFFSETTO:+0300
TZNAME:EEST
DTSTART:20210328T010000
END:DAYLIGHT
BEGIN:STANDARD
TZOFFSETFROM:+0300
TZOFFSETTO:+0200
TZNAME:EET
DTSTART:20211031T010000
END:STANDARD
END:VTIMEZONE
BEGIN:VEVENT
DTSTART;TZID=Europe/Helsinki:20210313T173000
DTEND;TZID=Europe/Helsinki:20210313T193000
DTSTAMP:20260422T011624
CREATED:20210309T130614Z
LAST-MODIFIED:20210309T130614Z
UID:1546-1615656600-1615663800@breadearagon.es
SUMMARY:Masterclass de running
DESCRIPTION:Masterclass de running en la que además de darnos algún truco para aguantar más corriendo y conseguir mejores resultados\, realizaremos una salida por el municipio.
URL:https://breadearagon.es/evento/masterclass-de-running/
LOCATION:Frontón
END:VEVENT
BEGIN:VEVENT
DTSTART;TZID=Europe/Helsinki:20210612T103000
DTEND;TZID=Europe/Helsinki:20210612T130000
DTSTAMP:20260422T011624
CREATED:20210525T124329Z
LAST-MODIFIED:20210525T124555Z
UID:1613-1623493800-1623502800@breadearagon.es
SUMMARY:Escape room por la igualdad
DESCRIPTION:El día 12 de junio se va a realizar en el pabellón polideportivo un escape room por la igualdad. Todas las personas mayores de 12 años interesadas en participar deberán inscribirse previamente en el Ayuntamiento.
URL:https://breadearagon.es/evento/1613/
LOCATION:Pabellón polideportivo\, Calle Oriente\, Brea de Aragón\, Zaragoza\, 50246\, España
ATTACH;FMTTYPE=image/jpeg:https://breadearagon.es/wp-content/uploads/2021/05/20210612-escape-scaled.jpg
END:VEVENT
BEGIN:VEVENT
DTSTART;TZID=Europe/Helsinki:20210619T113000
DTEND;TZID=Europe/Helsinki:20210619T130000
DTSTAMP:20260422T011624
CREATED:20210526T114212Z
LAST-MODIFIED:20210526T115350Z
UID:1620-1624102200-1624107600@breadearagon.es
SUMMARY:Taller de defensa personal
DESCRIPTION:El día 19 de junio se va a realizar en el pabellón polideportivo un taller de defensa personal. Todas las personas mayores de 12 años interesadas en participar deberán inscribirse previamente en el Ayuntamiento.
URL:https://breadearagon.es/evento/taller-de-defensa-personal/
LOCATION:Pabellón polideportivo\, Calle Oriente\, Brea de Aragón\, Zaragoza\, 50246\, España
END:VEVENT
END:VCALENDAR